BEGIN:VCALENDAR
VERSION:2.0
PRODID:-//Bundesnetzwerk Mehrgenerationenhäuser - ECPv6.15.20//NONSGML v1.0//EN
CALSCALE:GREGORIAN
METHOD:PUBLISH
X-WR-CALNAME:Bundesnetzwerk Mehrgenerationenhäuser
X-ORIGINAL-URL:https://www.bnw-mgh.de
X-WR-CALDESC:Veranstaltungen für Bundesnetzwerk Mehrgenerationenhäuser
REFRESH-INTERVAL;VALUE=DURATION:PT1H
X-Robots-Tag:noindex
X-PUBLISHED-TTL:PT1H
BEGIN:VTIMEZONE
TZID:Europe/Berlin
BEGIN:DAYLIGHT
TZOFFSETFROM:+0100
TZOFFSETTO:+0200
TZNAME:CEST
DTSTART:20190331T010000
END:DAYLIGHT
BEGIN:STANDARD
TZOFFSETFROM:+0200
TZOFFSETTO:+0100
TZNAME:CET
DTSTART:20191027T010000
END:STANDARD
BEGIN:DAYLIGHT
TZOFFSETFROM:+0100
TZOFFSETTO:+0200
TZNAME:CEST
DTSTART:20200329T010000
END:DAYLIGHT
BEGIN:STANDARD
TZOFFSETFROM:+0200
TZOFFSETTO:+0100
TZNAME:CET
DTSTART:20201025T010000
END:STANDARD
BEGIN:DAYLIGHT
TZOFFSETFROM:+0100
TZOFFSETTO:+0200
TZNAME:CEST
DTSTART:20210328T010000
END:DAYLIGHT
BEGIN:STANDARD
TZOFFSETFROM:+0200
TZOFFSETTO:+0100
TZNAME:CET
DTSTART:20211031T010000
END:STANDARD
BEGIN:DAYLIGHT
TZOFFSETFROM:+0100
TZOFFSETTO:+0200
TZNAME:CEST
DTSTART:20220327T010000
END:DAYLIGHT
BEGIN:STANDARD
TZOFFSETFROM:+0200
TZOFFSETTO:+0100
TZNAME:CET
DTSTART:20221030T010000
END:STANDARD
BEGIN:DAYLIGHT
TZOFFSETFROM:+0100
TZOFFSETTO:+0200
TZNAME:CEST
DTSTART:20230326T010000
END:DAYLIGHT
BEGIN:STANDARD
TZOFFSETFROM:+0200
TZOFFSETTO:+0100
TZNAME:CET
DTSTART:20231029T010000
END:STANDARD
BEGIN:DAYLIGHT
TZOFFSETFROM:+0100
TZOFFSETTO:+0200
TZNAME:CEST
DTSTART:20240331T010000
END:DAYLIGHT
BEGIN:STANDARD
TZOFFSETFROM:+0200
TZOFFSETTO:+0100
TZNAME:CET
DTSTART:20241027T010000
END:STANDARD
BEGIN:DAYLIGHT
TZOFFSETFROM:+0100
TZOFFSETTO:+0200
TZNAME:CEST
DTSTART:20250330T010000
END:DAYLIGHT
BEGIN:STANDARD
TZOFFSETFROM:+0200
TZOFFSETTO:+0100
TZNAME:CET
DTSTART:20251026T010000
END:STANDARD
BEGIN:DAYLIGHT
TZOFFSETFROM:+0100
TZOFFSETTO:+0200
TZNAME:CEST
DTSTART:20260329T010000
END:DAYLIGHT
BEGIN:STANDARD
TZOFFSETFROM:+0200
TZOFFSETTO:+0100
TZNAME:CET
DTSTART:20261025T010000
END:STANDARD
BEGIN:DAYLIGHT
TZOFFSETFROM:+0100
TZOFFSETTO:+0200
TZNAME:CEST
DTSTART:20270328T010000
END:DAYLIGHT
BEGIN:STANDARD
TZOFFSETFROM:+0200
TZOFFSETTO:+0100
TZNAME:CET
DTSTART:20271031T010000
END:STANDARD
END:VTIMEZONE
BEGIN:VEVENT
DTSTART;TZID=Europe/Berlin:20260317T140000
DTEND;TZID=Europe/Berlin:20260319T140000
DTSTAMP:20260425T002330
CREATED:20260220T205022Z
LAST-MODIFIED:20260220T205022Z
UID:5939-1773756000-1773928800@www.bnw-mgh.de
SUMMARY:Bundesnetzwerktreffen der Mehrgenerationenhäuser 2026
DESCRIPTION:Das Bundesnetzwerktreffen der Mehrgenerationenhäuser findet vom 17.03.2026 – 19.03.2026 im Mehrgenerationenhaus Zukunftshaus Wedding in Berlin statt.
URL:https://www.bnw-mgh.de/termin/bundesnetzwerktreffen-der-mehrgenerationenhaeuser-2026/
END:VEVENT
BEGIN:VEVENT
DTSTART;TZID=Europe/Berlin:20260310T180000
DTEND;TZID=Europe/Berlin:20260310T200000
DTSTAMP:20260425T002330
CREATED:20260220T204402Z
LAST-MODIFIED:20260220T204424Z
UID:5935-1773165600-1773172800@www.bnw-mgh.de
SUMMARY:Ausstellungseröffnung Familienzentren und Mehrgenerationenhäuser im Land Brandenburg
DESCRIPTION:Glücksbringer\, Chancenbereiter\, Ansprechpartner – und so vieles mehr! \n18.00 Uhr Podiumsgespräch „füreinander – miteinander“ mit Teilnehmenden aus dem Ministerium für Gesundheit und Soziales\, aus der Politik\, aus den Familienzentren und Mehrgenerationenhäusern sowie der Landesarbeitsgemeinschaft \nGrußwort: Prof. Dr. Ulrike Liedtke\, Präsidentin des Landtages Brandenburg \nFür die Teilnahme an der Ausstellungseröffnung erbitten wir eine formlose Anmeldung bis zum 2. März 2026\nper E-Mail an veranstaltungen@landtag.brandenburg.de \nOrt: Landtag Brandenburg\, Alter Markt 1\, 14467 Potsdam
URL:https://www.bnw-mgh.de/termin/ausstellungseroeffnung-familienzentren-und-mehrgenerationenhaeuser-im-land-brandenburg/
END:VEVENT
BEGIN:VEVENT
DTSTART;TZID=Europe/Berlin:20250325T140000
DTEND;TZID=Europe/Berlin:20250327T140000
DTSTAMP:20260425T002330
CREATED:20250114T212550Z
LAST-MODIFIED:20250114T212550Z
UID:5694-1742911200-1743084000@www.bnw-mgh.de
SUMMARY:Bundesnetzwerktreffen der Mehrgenerationenhäuser - 2025
DESCRIPTION:Das Bundesnetzwerktreffen der Mehrgenerationenhäuser findet vom 25.03.2025 – 27.03.2025 im Mehrgenerationenhaus Zukunftshaus Wedding in Berlin statt.
URL:https://www.bnw-mgh.de/termin/bundesnetzwerktreffen-der-mehrgenerationenhaeuser-2025/
END:VEVENT
BEGIN:VEVENT
DTSTART;VALUE=DATE:20240515
DTEND;VALUE=DATE:20240517
DTSTAMP:20260425T002330
CREATED:20240403T111456Z
LAST-MODIFIED:20240403T111456Z
UID:5602-1715731200-1715903999@www.bnw-mgh.de
SUMMARY:4.Fachtag im Bundesprogramm Mehrgenerationenhaus
DESCRIPTION:Titel: Gleichwertige Lebensverhältnisse und soziale Ungleichheit\, als Digitalkonferenz\n \nIn diesem Jahr mit der Thematik der „Sozialen Ungleichheit“\, ein Kernthema der Debatte um die Gleichwertigkeit von Lebensverhältnissen. Es soll u. a. danach gefragt werden\, wie sozialraumorientiertes Arbeiten vor Ort der sozialen Ungleichheit entgegenwirken kann.\nDabei stehen die Aspekte freiwilliges Engagement\, Bildungschancen\, Gesundheit und Teilhabe im Vordergrund des diesjährigen Fachtages.\nMit Impulsvorträgen\, Austausch und Diskussionen gemeinsam mit Expertinnen und Experten. \nKontakt: \nBundesamt für Familie und zivilgesellschaftliche Aufgaben\nReferat 404 – Servicestelle des Bundesprogramms Mehrgenerationenhaus\nFachlich inhaltliche Begleitung (FiB)\nKontakt: Tel.: 0221 3673-4049\nE-Mail: fib-mgh@bafza.bund.de\nInternet: www.bafza.de
URL:https://www.bnw-mgh.de/termin/4-fachtag-im-bundesprogramm-mehrgenerationenhaus/
END:VEVENT
BEGIN:VEVENT
DTSTART;TZID=Europe/Berlin:20240416T140000
DTEND;TZID=Europe/Berlin:20240418T140000
DTSTAMP:20260425T002330
CREATED:20240403T110917Z
LAST-MODIFIED:20240403T110917Z
UID:5600-1713276000-1713448800@www.bnw-mgh.de
SUMMARY:Bundesnetzwerktreffen der Mehrgenerationenhäuser im April 2024
DESCRIPTION:Das Bundesnetzwerktreffen der Mehrgenerationenhäuser findet vom 16. – 18.April 2024 im Mehrgenerationenhaus Stadtteilzentrum KREATIVHAUS\, Berlin statt. \nVon der Website des MGH Stadtteilzentrum Kreativhaus: „Nachdem die Landesarbeitsgemeinschaft Spiel und Theater Berlin e.V. die Geburtshilfe und die ersten Schritte begleitet hatte\, wurde mit dem KREATIVHAUS e.V. ein eigenständiger Trägerverein gegründet. Dieser übernahm bis Ende 2000 die Verantwortung aller Entwicklungen. Fehlende finanzielle Reserven für die geplante Sanierung und bevorstehender Generationenwechsel im Leitungsteam waren ausschlaggebend für die Entscheidung\, dass KREATIVHAUS e.V. zum 01.01.2021 vertrauensvoll die Trägerschaft für das KREATIVHAUS an FiPP e.V. übergibt“ (FiPP e.V.) / https://www.kreativhaus-berlin.de/uber-uns/geschichte/ \nRund 30 MGH Koordinator:innen/ Delegierte aus 16 Bundesländern werden als Teilnehmerinnen und Teilnehmer erwartet. Im Zentrum der gemeinsamen Arbeit steht der Austausch der MGH-Arbeit\, zu speziellen Fragestellungen wird dieser in Fach-Arbeitsgruppen durchgeführt. Möglichkeiten und Grenzen des Mehrgenerationenhaus-Ansatzes im Umgang mit den aktuellen Herausforderungen werden diskutiert\, um Handlungsempfehlungen zu erarbeiten. \nOrt: Mehrgenerationenhaus im Stadtteilzentrum KREATIVHAUS \nFischerinsel 3\, 10179 Berlin\nTel.: +49 173 243 3456 \nWeb: www.kreativhaus-berlin.de
URL:https://www.bnw-mgh.de/termin/bundesnetzwerktreffen-der-mehrgenerationenhaeuser-im-april-2024/
END:VEVENT
BEGIN:VEVENT
DTSTART;TZID=Europe/Berlin:20231024T140000
DTEND;TZID=Europe/Berlin:20231026T140000
DTSTAMP:20260425T002330
CREATED:20231014T105008Z
LAST-MODIFIED:20240403T110451Z
UID:5582-1698156000-1698328800@www.bnw-mgh.de
SUMMARY:Bundesnetzwerktreffen Mehrgenerationenhäuser e.V.
DESCRIPTION:Das zweite Bundesnetzwerktreffen der Mehrgenerationenhäuser ist für den 24.-26. Oktober im Mehrgenerationenhaus „Kinder im Zentrum Gallus e.V.“ geplant. \nDas Haus bietet unter einem Dach Kindertagesstätte und Bildungsangebote\, Qualifizierung und Beratung\, Berufsorientierung und Musik\, Freizeitangebote und Hausaufgabenbetreuung\, Hebammenleistungen und offene Treffs\, Familienzentrum und Familienrestaurant – und noch viel mehr. Rund 30 Delegierte aus 16 Bundesländern – MGH Koordinatorinnen und Koordinatoren – werden als Teilnehmerinnen und Teilnehmer erwartet. \nIn den Fach-Arbeitsgruppen: Generationenverbindende Arbeit\, Freiwilliges Engagement\, Soziale Teilhabe und Sozialraumorientierung werden Möglichkeiten und Grenzen des Mehrgenerationenhaus-Ansatzes im Umgang mit den aktuellen Herausforderungen diskutiert\, um Handlungsempfehlungen zu erarbeiten
URL:https://www.bnw-mgh.de/termin/bundesnetzwerktreffen-mehrgenerationenhaeuser-e-v/
END:VEVENT
BEGIN:VEVENT
DTSTART;TZID=Europe/Berlin:20231012T100000
DTEND;TZID=Europe/Berlin:20231012T163000
DTSTAMP:20260425T002330
CREATED:20230515T110524Z
LAST-MODIFIED:20230515T110524Z
UID:5502-1697104800-1697128200@www.bnw-mgh.de
SUMMARY:Ideenkonferenz im Oktober 2023
DESCRIPTION:in Würzburg im MGH Generationen-Zentrum Matthias-Ehrenfried e.V. \nDas Thema: „Selbstbestimmtes Leben im Alter“ wird aus unterschiedlichen Perspektiven beleuchtet. Es besteht die Möglichkeit für kollegialen Austausch und der Teilnahme pro Konferenz an zwei unterschiedlichen Workshops.
URL:https://www.bnw-mgh.de/termin/ideenkonferenz-im-oktober-2023/
END:VEVENT
BEGIN:VEVENT
DTSTART;TZID=Europe/Berlin:20230928T100000
DTEND;TZID=Europe/Berlin:20230928T163000
DTSTAMP:20260425T002330
CREATED:20230515T110304Z
LAST-MODIFIED:20230515T110304Z
UID:5500-1695895200-1695918600@www.bnw-mgh.de
SUMMARY:Ideenkonferenz im September 2023
DESCRIPTION:in Hamburg im MGH Barmbek°Basch \nDas Thema: „Selbstbestimmtes Leben im Alter“ wird aus unterschiedlichen Perspektiven beleuchtet. Es besteht die Möglichkeit für kollegialen Austausch und der Teilnahme pro Konferenz an zwei unterschiedlichen Workshops.
URL:https://www.bnw-mgh.de/termin/ideenkonferenz-im-september-2023/
END:VEVENT
BEGIN:VEVENT
DTSTART;TZID=Europe/Berlin:20230711T100000
DTEND;TZID=Europe/Berlin:20230711T160000
DTSTAMP:20260425T002330
CREATED:20230622T075631Z
LAST-MODIFIED:20230622T075848Z
UID:5527-1689069600-1689091200@www.bnw-mgh.de
SUMMARY:Fachtagung "Familien niedrigschwellig unterstützen - Wege zum Familienzentrum"
DESCRIPTION:im Treffpunkt Freizeit\, am Neuen Garten 64\, 14469 Potsdam \nDie zusätzliche Landesförderung für den Auf- und Ausbau von Familienzentren im Zeitraum 2023/24 stärkt diesen Ansatz der Familienförderung im Land Brandenburg. Doch wie gelingt es\, insbesondere Familien in schwieriger sozialer Lage niedrigschwellig zu erreichen? Wie finden Familien „Wege zum Familienzentrum“ und wie können Einrichtungen sich zum Familienzentrum weiterentwickeln? \nSie können sich unter folgendem Link anmelden\, die Teilnahme ist kostenlos:\nhttps://mailings.gesundheitbb.de/f/96105-359072 \nDie Fachtagung ist eine Kooperation des Projektes Familienzentren stärken! in Trägerschaft von Gesundheit Berlin-Brandenburg e.V. und gefördert durch die Auridis-Stiftung mit dem Familienbeirat Brandenburg\, der Landesarbeitsgemeinschaft der Familienverbände Brandenburg\, der LIGA der freien Wohlfahrtspflege Brandenburg\, dem Ministerium für Soziales\, Gesundheit\, Integration und Verbraucherschutz und der Servicestelle Familienzentren an Mehrgenerationenhäusern. \n 
URL:https://www.bnw-mgh.de/termin/fachtagung-familien-niedrigschwellig-unterstuetzen-wege-zum-familienzentrum/
END:VEVENT
BEGIN:VEVENT
DTSTART;TZID=Europe/Berlin:20230628T130000
DTEND;TZID=Europe/Berlin:20230629T143000
DTSTAMP:20260425T002330
CREATED:20230523T100846Z
LAST-MODIFIED:20230523T100846Z
UID:5506-1687957200-1688049000@www.bnw-mgh.de
SUMMARY:Fachtag 2023 im Bundesprogramm Mehrgenerationenhaus
DESCRIPTION:Gleichwertige Lebensverhältnisse – Miteinander. Füreinander. Gegeneinander?\nDigitalkonferenz\n \nWie hängen Demografie und Demokratie zusammenhängen\, welchen Einfluss (werden) die verschiedenen Krisen auf das Verhältnis von Generationen untereinander haben und inwieweit ist das Konzept der Generationengerechtigkeit tragfähig für die Zukunft unserer Gesellschaft? \n  \n 
URL:https://www.bnw-mgh.de/termin/fachtag-2023-im-bundesprogramm-mehrgenerationenhaus/
END:VEVENT
BEGIN:VEVENT
DTSTART;TZID=Europe/Berlin:20230622T093000
DTEND;TZID=Europe/Berlin:20230622T160000
DTSTAMP:20260425T002330
CREATED:20230405T092939Z
LAST-MODIFIED:20230405T092939Z
UID:5476-1687426200-1687449600@www.bnw-mgh.de
SUMMARY:Am 22. Juni - „Alpha-Vernetzungstag“  - MGH-Sonderschwerpunkt „Förderung der Lese-\, Schreib- und Rechenkompetenzen“
DESCRIPTION:Der „Alpha-Vernetzungstag“ findet von 09:30 Uhr bis 16:00 Uhr statt \nin Stuttgart – MüZe Süd Familienzentrum e.V. \nDie Anmeldung ist noch bis zum 14.  April 2023 über die FiB-Datenbank möglich!\nSie können sich mit bis zu zwei Personen für einen der Termine anmelden.
URL:https://www.bnw-mgh.de/termin/am-22-juni-alpha-vernetzungstag-mgh-sonderschwerpunkt-foerderung-der-lese-schreib-und-rechenkompetenzen/
END:VEVENT
BEGIN:VEVENT
DTSTART;TZID=Europe/Berlin:20230620T093000
DTEND;TZID=Europe/Berlin:20230620T160000
DTSTAMP:20260425T002330
CREATED:20230405T092734Z
LAST-MODIFIED:20230405T093712Z
UID:5474-1687253400-1687276800@www.bnw-mgh.de
SUMMARY:Am 20. Juni - „Alpha-Vernetzungstag“  - MGH-Sonderschwerpunkt „Förderung der Lese-\, Schreib- und Rechenkompetenzen“
DESCRIPTION:Der „Alpha-Vernetzungstag“ findet von 09:30 Uhr bis 16:00 Uhr statt \nin Berlin – KREATIVHAUS Stadtteilzentrum \nDie Anmeldung ist noch bis zum 14.  April 2023 über die FiB-Datenbank möglich!\nSie können sich mit bis zu zwei Personen für einen der Termine anmelden.
URL:https://www.bnw-mgh.de/termin/am-20-juni-alpha-vernetzungstag-mgh-sonderschwerpunkt-foerderung-der-lese-schreib-und-rechenkompetenzen/
END:VEVENT
BEGIN:VEVENT
DTSTART;TZID=Europe/Berlin:20230525T093000
DTEND;TZID=Europe/Berlin:20230525T160000
DTSTAMP:20260425T002330
CREATED:20230405T085832Z
LAST-MODIFIED:20230405T092811Z
UID:5468-1685007000-1685030400@www.bnw-mgh.de
SUMMARY:Am 25.Mai - „Alpha-Vernetzungstag“ - MGH-Sonderschwerpunkt „Förderung der Lese-\, Schreib- und Rechenkompetenzen“
DESCRIPTION:Der „Alpha-Vernetzungstag“ findet von 09:30 Uhr bis 16:00 Uhr statt \nin Dortmund – Mütterzentrum Dortmund \nDie Anmeldung ist noch bis zum 14.  April 2023 über die FiB-Datenbank möglich!\nSie können sich mit bis zu zwei Personen für einen der Termine anmelden.
URL:https://www.bnw-mgh.de/termin/alpha-vernetzungstage-im-mgh-sonderschwerpunkt-foerderung-der-lese-schreib-und-rechenkompetenzen/
END:VEVENT
BEGIN:VEVENT
DTSTART;VALUE=DATE:20230322
DTEND;VALUE=DATE:20230325
DTSTAMP:20260425T002330
CREATED:20230222T205343Z
LAST-MODIFIED:20230222T205343Z
UID:5457-1679443200-1679702399@www.bnw-mgh.de
SUMMARY:Bundesnetzwerktreffen der Mehrgenerationenhäuser
DESCRIPTION:Treffen der Delegierten der Landesnetzwerke der Mehrgenerationenhäuser in Berlin
URL:https://www.bnw-mgh.de/termin/bundesnetzwerktreffen-der-mehrgenerationenhaeuser-2/
END:VEVENT
BEGIN:VEVENT
DTSTART;TZID=Europe/Berlin:20230321T100000
DTEND;TZID=Europe/Berlin:20230321T130000
DTSTAMP:20260425T002330
CREATED:20230222T205122Z
LAST-MODIFIED:20230222T205122Z
UID:5455-1679392800-1679403600@www.bnw-mgh.de
SUMMARY:Die Engagementstrategie - Wie wir gut Engagement fördern könn(t)en:
DESCRIPTION:Die Engagementstrategie und unsere Themen\nDigitaler Fachtag \nWir laden Sie herzlich ein\, mit uns zu diskutieren: Was sind die wichtigen Themen und Herausforderungen im Kontext der Engagementförderung vor Ort – insbesondere in Zeiten von fortgesetzten Krisen? Gemeinsam wollen wir überlegen\, wie eine nachhaltige Engagementförderung aufgestellt sein sollte. \nDas NETZWERK ENGAGEMENTFÖRDERUNG
URL:https://www.bnw-mgh.de/termin/die-engagementstrategie-wie-wir-gut-engagement-foerdern-koennten/
END:VEVENT
BEGIN:VEVENT
DTSTART;VALUE=DATE:20221019
DTEND;VALUE=DATE:20221021
DTSTAMP:20260425T002330
CREATED:20220824T085403Z
LAST-MODIFIED:20220828T104636Z
UID:5017-1666220400-1666306799@www.bnw-mgh.de
SUMMARY:Ideenkonferenzen der Mehrgenerationenhäuser
DESCRIPTION:in diesem Jahr erstmals wieder seit 2019 als Präsenzveranstaltungen zum Thema: „Kulturelle Bildungsarbeit im Quartier“\nRegion Südwest (Baden-Württemberg\, Hessen\, Rheinland-Pfalz\, Saarland)
URL:https://www.bnw-mgh.de/termin/ideenkonferenzen-der-mehrgenerationenhaeuser-3/
LOCATION:Ingelheim\, Deutschland
END:VEVENT
BEGIN:VEVENT
DTSTART;VALUE=DATE:20221012
DTEND;VALUE=DATE:20221014
DTSTAMP:20260425T002330
CREATED:20220824T085321Z
LAST-MODIFIED:20220828T104715Z
UID:5014-1665615600-1665701999@www.bnw-mgh.de
SUMMARY:Ideenkonferenzen der Mehrgenerationenhäuser
DESCRIPTION:in diesem Jahr erstmals wieder seit 2019 als Präsenzveranstaltungen zum Thema: „Kulturelle Bildungsarbeit im Quartier“\nRegion Südost (Bayern\, Sachsen) \n 
URL:https://www.bnw-mgh.de/termin/ideenkonferenzen-der-mehrgenerationenhaeuser-2-2/
LOCATION:Regensburg\, Deutschland
END:VEVENT
BEGIN:VEVENT
DTSTART;VALUE=DATE:20221005
DTEND;VALUE=DATE:20221007
DTSTAMP:20260425T002330
CREATED:20220824T085203Z
LAST-MODIFIED:20220828T104700Z
UID:5010-1665010800-1665097199@www.bnw-mgh.de
SUMMARY:Ideenkonferenzen der Mehrgenerationenhäuser
DESCRIPTION:in diesem Jahr erstmals wieder seit 2019 als Präsenzveranstaltungen zum Thema: „Kulturelle Bildungsarbeit im Quartier“\nRegion Nordost (Brandenburg\, Berlin\, Mecklenburg-Vorpommern\, Schleswig-Holstein\, Sachsen-Anhalt\, Thüringen)
URL:https://www.bnw-mgh.de/termin/ideenkonferenzen-der-mehrgenerationenhaeuser-2/
LOCATION:Magdeburg\, Deutschland
END:VEVENT
BEGIN:VEVENT
DTSTART;VALUE=DATE:20220928
DTEND;VALUE=DATE:20220930
DTSTAMP:20260425T002330
CREATED:20220824T085100Z
LAST-MODIFIED:20220828T104527Z
UID:5007-1664406000-1664492399@www.bnw-mgh.de
SUMMARY:Ideenkonferenzen der Mehrgenerationenhäuser
DESCRIPTION:in diesem Jahr erstmals wieder seit 2019 als Präsenzveranstaltungen zum Thema: „Kulturelle Bildungsarbeit im Quartier“\nRegion Nordost (Brandenburg\, Berlin\, Mecklenburg-Vorpommern\, Schleswig-Holstein\, Sachsen-Anhalt\, Thüringen)
URL:https://www.bnw-mgh.de/termin/ideenkonferenzen-der-mehrgenerationenhaeuser/
LOCATION:Kamen\, Deutschland
END:VEVENT
BEGIN:VEVENT
DTSTART;VALUE=DATE:20220912
DTEND;VALUE=DATE:20220915
DTSTAMP:20260425T002330
CREATED:20220901T164219Z
LAST-MODIFIED:20220901T164459Z
UID:5208-1662940800-1663199999@www.bnw-mgh.de
SUMMARY:Bundesnetzwerktreffen der Mehrgenerationenhäuser
DESCRIPTION:Arbeitstreffen der MGH Koordinator:innen aus allen Bundesländern \nin der Villa Böckelmann in Magdeburg
URL:https://www.bnw-mgh.de/termin/bundesnetzwerktreffen-der-mehrgenerationenhaeuser/
END:VEVENT
BEGIN:VEVENT
DTSTART;TZID=Europe/Berlin:20220607T120000
DTEND;TZID=Europe/Berlin:20220607T200000
DTSTAMP:20260425T002330
CREATED:20220824T091152Z
LAST-MODIFIED:20220824T094219Z
UID:5026-1654603200-1654632000@www.bnw-mgh.de
SUMMARY:Fachtag im Bundesprogramm Mehrgenerationenhäuser – Zusammenhalt und Vielfalt leben
DESCRIPTION:Mehr Infos
URL:https://www.bnw-mgh.de/termin/fachtag-im-bundesprogramm-mehrgenerationenhaeuser-zusammenhalt-und-vielfalt-leben/
ATTACH;FMTTYPE=image/jpeg:https://www.bnw-mgh.de/wp-content/uploads/2022/08/fachtag_mgh.jpg
END:VEVENT
BEGIN:VEVENT
DTSTART;TZID=Europe/Berlin:20220531T170000
DTEND;TZID=Europe/Berlin:20220531T200000
DTSTAMP:20260425T002330
CREATED:20220824T093656Z
LAST-MODIFIED:20220824T094148Z
UID:5030-1654016400-1654027200@www.bnw-mgh.de
SUMMARY:Qualitätskriterien auf dem Prüfstand
DESCRIPTION:Mehr Infos
URL:https://www.bnw-mgh.de/termin/qualitaetskriterien-auf-dem-pruefstand/
ATTACH;FMTTYPE=image/jpeg:https://www.bnw-mgh.de/wp-content/uploads/2022/08/fachtag_mgh.jpg
END:VEVENT
BEGIN:VEVENT
DTSTART;TZID=Europe/Berlin:20220504T170000
DTEND;TZID=Europe/Berlin:20220504T200000
DTSTAMP:20260425T002330
CREATED:20220824T093747Z
LAST-MODIFIED:20220824T094056Z
UID:5032-1651683600-1651694400@www.bnw-mgh.de
SUMMARY:Familienministerin Lisa Paus verleiht den Bundespreis Mehrgenerationenhaus #GemeinsamMehr
DESCRIPTION:Mehr Infos
URL:https://www.bnw-mgh.de/termin/familienministerin-lisa-paus-verleiht-den-bundespreis-mehrgenerationenhaus-gemeinsammehr/
END:VEVENT
BEGIN:VEVENT
DTSTART;VALUE=DATE:20211124
DTEND;VALUE=DATE:20211127
DTSTAMP:20260425T002330
CREATED:20200922T093037Z
LAST-MODIFIED:20200922T093037Z
UID:4806-1637712000-1637971199@www.bnw-mgh.de
SUMMARY:Deutsche Seniorentage
DESCRIPTION:Hannover
URL:https://www.bnw-mgh.de/termin/deutsche-seniorentage/
END:VEVENT
BEGIN:VEVENT
DTSTART;VALUE=DATE:20210315
DTEND;VALUE=DATE:20210317
DTSTAMP:20260425T002330
CREATED:20200922T092815Z
LAST-MODIFIED:20210104T092300Z
UID:4802-1615766400-1615939199@www.bnw-mgh.de
SUMMARY:Bundesnetzwerktreffen 2021 (online)
DESCRIPTION:
URL:https://www.bnw-mgh.de/termin/bundesnetzwerktreffen-2021/
END:VEVENT
BEGIN:VEVENT
DTSTART;VALUE=DATE:20210223
DTEND;VALUE=DATE:20210224
DTSTAMP:20260425T002330
CREATED:20200922T092649Z
LAST-MODIFIED:20201030T112845Z
UID:4800-1614038400-1614124799@www.bnw-mgh.de
SUMMARY:Auftakt neues Bundesprogramm Miteinander - Füreinander (online)
DESCRIPTION:
URL:https://www.bnw-mgh.de/termin/auftakt-neues-bundesprogramm-miteinander-fuereinander/
END:VEVENT
BEGIN:VEVENT
DTSTART;TZID=Europe/Berlin:20201208T150000
DTEND;TZID=Europe/Berlin:20201208T160000
DTSTAMP:20260425T002330
CREATED:20201026T120630Z
LAST-MODIFIED:20201125T114843Z
UID:4814-1607439600-1607443200@www.bnw-mgh.de
SUMMARY:Gesicht zeigen! Bundesnetzwerk live & hautnah
DESCRIPTION:Interviews & Statements vom BNW-Sprecherrat & aus der Politik\nmusikalische & kulturelle Beiträge\nLive-Chat-Funktion für Ihre Fragen\n\nErleben Sie das Bundesnetzwerk per Stream. Mehr Infos in Kürze hier.
URL:https://www.bnw-mgh.de/termin/gesicht-zeigen-bundesnetzwerk-live-hautnah/
END:VEVENT
BEGIN:VEVENT
DTSTART;VALUE=DATE:20201203
DTEND;VALUE=DATE:20201205
DTSTAMP:20260425T002330
CREATED:20201012T113438Z
LAST-MODIFIED:20201012T113455Z
UID:4810-1606953600-1607126399@www.bnw-mgh.de
SUMMARY:5. Deutscher EngagementTag
DESCRIPTION:Grenzenlos engagiert – Zivilgesellschaftliches Engagement in Zeiten von Umbrüchen und Aufbrüchen \nDas Bundesministerium für Familie\, Senioren\, Frauen und Jugend und das Bundesnetzwerk Bürgerschaftliches Engagement laden gemeinsam zur zweitägigen digitalen Fachkonferenz ein. \nDie Corona-Pandemie und deren Auswirkungen zeigen wieder einmal mehr die große Bedeutung von bürgerschaftlichem Engagement für eine lebendige und demokratische Gesellschaft. Gleichzeitig wird der Engagementsektor vor ganz neue Herausforderungen gestellt. Wie gehen die Akteure aus dem Engagementbereich damit um? Welche Angebote gibt es? Wie kann die Demokratie in Zeiten von Umbrüchen und Aufbrüchen weiter gestärkt werden? Wie steht es um die Zivilgesellschaft nach 30 Jahren Deutsche Einheit? \nAm Abend des 3. Dezember 2020 wird auch wieder der Deutsche Engagementpreis im Rahmen einer Veranstaltung verliehen.
URL:https://www.bnw-mgh.de/termin/5-deutscher-engagementtag/
END:VEVENT
BEGIN:VEVENT
DTSTART;VALUE=DATE:20201102
DTEND;VALUE=DATE:20201104
DTSTAMP:20260425T002330
CREATED:20200922T092922Z
LAST-MODIFIED:20200922T093412Z
UID:4804-1604275200-1604447999@www.bnw-mgh.de
SUMMARY:Fachtag Demografie konkret
DESCRIPTION:Online-Veranstaltung
URL:https://www.bnw-mgh.de/termin/fachtag-demografie-konkret/
END:VEVENT
BEGIN:VEVENT
DTSTART;VALUE=DATE:20200914
DTEND;VALUE=DATE:20200917
DTSTAMP:20260425T002330
CREATED:20200820T083500Z
LAST-MODIFIED:20200820T084404Z
UID:4781-1600041600-1600300799@www.bnw-mgh.de
SUMMARY:Bundesnetzwerktreffen
DESCRIPTION:
URL:https://www.bnw-mgh.de/termin/bundesnetzwerktreffen/
END:VEVENT
END:VCALENDAR